BEGIN:VCALENDAR
VERSION:2.0
PRODID:SchoolNow
CALSCALE:GREGORIAN
BEGIN:VEVENT
UID:25d0605e-5028-11ef-968d-0e2d80489dd7
DTSTAMP:20240801T170443Z
SUMMARY:Executive Session - August 20\, 2024
LOCATION:Administration Center\, 41 Williams Street\, Hammond\, IN 46320
URL;VALUE=URI:https://www.hammond.k12.in.us/calendar/6339930/executive-sess
 ion-august-20-2024
DTSTART:20240820T223000Z
DTEND:20240820T233000Z
ATTACH;FILENAME=SCH_Executive Sessions_Public Work Session_Aug 2024.pdf;FMT
 TYPE=application/pdf:https://campussuite-storage.s3.amazonaws.com/prod/155
 9033/fab8744a-ab41-11ea-9bfa-127f10bcdb1b/2824509/f67d691e-5022-11ef-b461-
 0a58a9feac02/file/SCH_Executive Sessions_Public Work Session_Aug 2024.pdf
END:VEVENT
END:VCALENDAR
