BEGIN:VCALENDAR
VERSION:2.0
PRODID:SchoolNow
CALSCALE:GREGORIAN
BEGIN:VEVENT
UID:b2610810-43a4-11ef-a584-0ef335e2e327
DTSTAMP:20240716T210938Z
SUMMARY:Teacher Work Day (No School)
URL;VALUE=URI:https://www.hammond.k12.in.us/calendar/6268694/teacher-work-d
 ay-no-school-clone
DTSTART;VALUE=DATE:20250602
DTEND;VALUE=DATE:20250603
END:VEVENT
END:VCALENDAR
