BEGIN:VCALENDAR
VERSION:2.0
PRODID:SchoolNow
CALSCALE:GREGORIAN
BEGIN:VEVENT
UID:a206d44a-43a4-11ef-8041-0e5bca4324e1
DTSTAMP:20240716T205143Z
SUMMARY:Teacher Work Day (No School)
URL;VALUE=URI:https://www.hammond.k12.in.us/calendar/6268693/teacher-work-d
 ay-no-school-clone-clone
DTSTART;VALUE=DATE:20250314
DTEND;VALUE=DATE:20250315
END:VEVENT
END:VCALENDAR
