BEGIN:VCALENDAR
VERSION:2.0
PRODID:SchoolNow
CALSCALE:GREGORIAN
BEGIN:VEVENT
UID:50c146c4-43a4-11ef-8e34-0a58a9feac02
DTSTAMP:20240716T190510Z
SUMMARY:Teacher Work Day (No School)
URL;VALUE=URI:https://www.hammond.k12.in.us/calendar/6268690/teacher-work-d
 ay-no-school
DTSTART;VALUE=DATE:20240809
DTEND;VALUE=DATE:20240810
END:VEVENT
END:VCALENDAR
