BEGIN:VCALENDAR
VERSION:2.0
PRODID:SchoolNow
CALSCALE:GREGORIAN
BEGIN:VEVENT
UID:b6c5358a-4399-11ef-ba51-0261e29961bf
DTSTAMP:20240716T205421Z
SUMMARY:No School
URL;VALUE=URI:https://www.hammond.k12.in.us/calendar/6268689/no-school
DTSTART;VALUE=DATE:20250421
DTEND;VALUE=DATE:20250422
END:VEVENT
END:VCALENDAR
