BEGIN:VCALENDAR
VERSION:2.0
PRODID:SchoolNow
CALSCALE:GREGORIAN
BEGIN:VEVENT
UID:8f0c1eba-4398-11ef-a3b6-028d8f183b07
DTSTAMP:20240716T210852Z
SUMMARY:Memorial Day (No School)
URL;VALUE=URI:https://www.hammond.k12.in.us/calendar/6268685/memorial-day-n
 o-school
DTSTART;VALUE=DATE:20250526
DTEND;VALUE=DATE:20250527
END:VEVENT
END:VCALENDAR
