BEGIN:VCALENDAR
VERSION:2.0
PRODID:SchoolNow
CALSCALE:GREGORIAN
BEGIN:VEVENT
UID:79ad0eb2-4398-11ef-9d48-02e13ea90adb
DTSTAMP:20240716T205258Z
SUMMARY:Good Friday (No School)
URL;VALUE=URI:https://www.hammond.k12.in.us/calendar/6268684/good-friday-no
 -school
DTSTART;VALUE=DATE:20250418
DTEND;VALUE=DATE:20250419
END:VEVENT
END:VCALENDAR
