BEGIN:VCALENDAR
VERSION:2.0
PRODID:SchoolNow
CALSCALE:GREGORIAN
BEGIN:VEVENT
UID:5873ca38-4398-11ef-986f-0ef335e2e327
DTSTAMP:20240716T205209Z
SUMMARY:Spring Break (No School)
URL;VALUE=URI:https://www.hammond.k12.in.us/calendar/6268662/spring-break-n
 o-school
DTSTART;VALUE=DATE:20250324
DTEND;VALUE=DATE:20250329
END:VEVENT
END:VCALENDAR
