BEGIN:VCALENDAR
VERSION:2.0
PRODID:SchoolNow
CALSCALE:GREGORIAN
BEGIN:VEVENT
UID:a6bc276e-4382-11ef-9c5e-0ef335e2e327
DTSTAMP:20240716T145036Z
SUMMARY:First Day of School
URL;VALUE=URI:https://www.hammond.k12.in.us/calendar/6267435/first-day-of-s
 chool
DTSTART;VALUE=DATE:20240812
DTEND;VALUE=DATE:20240813
END:VEVENT
END:VCALENDAR
