BEGIN:VCALENDAR
VERSION:2.0
PRODID:SchoolNow
CALSCALE:GREGORIAN
BEGIN:VEVENT
UID:e34067b4-4381-11ef-a53b-0261e29961bf
DTSTAMP:20240716T144421Z
SUMMARY:SCH Job Fair
LOCATION:41 Williams Street\, Hammond\, IN 46320
URL;VALUE=URI:https://www.hammond.k12.in.us/calendar/6267432/sch-job-fair
DTSTART:20240717T150000Z
DTEND:20240717T190000Z
END:VEVENT
END:VCALENDAR
