BEGIN:VCALENDAR
VERSION:2.0
PRODID:SchoolNow
CALSCALE:GREGORIAN
BEGIN:VEVENT
UID:d136e2f6-4380-11ef-93d8-0a58a9feac02
DTSTAMP:20240716T143641Z
SUMMARY:Back to School Celebration
LOCATION:Hammond Central High School\, 5926 Calumet Avenue\, Hammond\, IN 4
 6320
URL;VALUE=URI:https://www.hammond.k12.in.us/calendar/6267430/back-to-school
 -celebration
DTSTART:20240731T150000Z
DTEND:20240731T180000Z
ATTACH;FILENAME=2024_BTSC.pdf;FMTTYPE=application/pdf:https://campussuite-s
 torage.s3.amazonaws.com/prod/1559033/fab8744a-ab41-11ea-9bfa-127f10bcdb1b/
 2818987/b909fd62-4380-11ef-9bd1-0a58a9feac02/file/2024_BTSC.pdf
ATTACH;FILENAME=2024_BTSC_S.pdf;FMTTYPE=application/pdf:https://campussuite
 -storage.s3.amazonaws.com/prod/1559033/fab8744a-ab41-11ea-9bfa-127f10bcdb1
 b/2818988/b90a5d52-4380-11ef-a6a9-0a58a9feac02/file/2024_BTSC_S.pdf
END:VEVENT
END:VCALENDAR
