BEGIN:VCALENDAR
VERSION:2.0
PRODID:SchoolNow
CALSCALE:GREGORIAN
BEGIN:VEVENT
UID:d05c054e-33c9-11ef-9fbb-0252974d257d
DTSTAMP:20240710T210839Z
SUMMARY:School Board Meeting - July 23\, 2024
LOCATION:41 Williams Street\, Hammond\, IN. 46320
URL;VALUE=URI:https://www.hammond.k12.in.us/calendar/6169661/school-board-m
 eeting-july-23-2024
DTSTART:20240723T233000Z
DTEND:20240724T013000Z
END:VEVENT
END:VCALENDAR
