BEGIN:VCALENDAR
VERSION:2.0
PRODID:SchoolNow
CALSCALE:GREGORIAN
BEGIN:VEVENT
UID:ab104dea-33c9-11ef-a812-02ede7249acb
DTSTAMP:20240626T143752Z
SUMMARY:Executive Session - July 23\, 2024
LOCATION:Administration Center\, 41 Williams Street\, Hammond\, IN 46320
URL;VALUE=URI:https://www.hammond.k12.in.us/calendar/6169659/executive-sess
 ion-july-23-2024
DTSTART:20240723T223000Z
DTEND:20240723T233000Z
END:VEVENT
END:VCALENDAR
