BEGIN:VCALENDAR
VERSION:2.0
PRODID:SchoolNow
CALSCALE:GREGORIAN
BEGIN:VEVENT
UID:9e69b522-33c9-11ef-99fc-0a58a9feac02
DTSTAMP:20240626T143731Z
SUMMARY:Executive Session - July 16\, 2024
LOCATION:Administration Center\, 41 Williams Street\, Hammond\, IN 46320
URL;VALUE=URI:https://www.hammond.k12.in.us/calendar/6169658/executive-sess
 ion-july-16-2024
DTSTART:20240716T223000Z
DTEND:20240716T233000Z
END:VEVENT
END:VCALENDAR
