BEGIN:VCALENDAR
VERSION:2.0
PRODID:SchoolNow
CALSCALE:GREGORIAN
BEGIN:VEVENT
UID:76afbc0c-33c9-11ef-8aab-02ede7249acb
DTSTAMP:20240626T143624Z
SUMMARY:Executive Session - July 9\, 2024
LOCATION:Administration Center\, 41 Williams Street\, Hammond\, IN 46320
URL;VALUE=URI:https://www.hammond.k12.in.us/calendar/6169657/executive-sess
 ion-july-9-2024
DTSTART:20240709T223000Z
DTEND:20240709T233000Z
END:VEVENT
END:VCALENDAR
