BEGIN:VCALENDAR
VERSION:2.0
PRODID:SchoolNow
CALSCALE:GREGORIAN
BEGIN:VEVENT
UID:3275fa88-33c9-11ef-bed0-0a58a9feac02
DTSTAMP:20240626T143429Z
SUMMARY:Executive Session - July 2\, 2024
LOCATION:Administration Center\, 41 Williams Street\, Hammond\, IN 46320
URL;VALUE=URI:https://www.hammond.k12.in.us/calendar/6169634/executive-sess
 ion-july-2-2024
DTSTART:20240702T223000Z
DTEND:20240702T233000Z
END:VEVENT
END:VCALENDAR
