BEGIN:VCALENDAR
VERSION:2.0
PRODID:SchoolNow
CALSCALE:GREGORIAN
BEGIN:VEVENT
UID:fba55212-1d05-11ef-aa3f-0affe48ec557
DTSTAMP:20240528T152140Z
SUMMARY:Executive Session - June 25\, 2024
LOCATION:Administration Center\, 41 Williams Street\, Hammond\, IN 46320
URL;VALUE=URI:https://www.hammond.k12.in.us/calendar/6040887/executive-sess
 ion-june-25-2024
DTSTART:20240625T223000Z
DTEND:20240625T233000Z
END:VEVENT
END:VCALENDAR
