BEGIN:VCALENDAR
VERSION:2.0
PRODID:SchoolNow
CALSCALE:GREGORIAN
BEGIN:VEVENT
UID:e5ae36ea-1d05-11ef-b5c5-026c1b3a7555
DTSTAMP:20240528T152103Z
SUMMARY:School Board Meeting - June 18\, 2024
LOCATION:41 Williams Street\, Hammond\, IN. 46320
URL;VALUE=URI:https://www.hammond.k12.in.us/calendar/6040886/school-board-m
 eeting-june-18-2024
DTSTART:20240618T233000Z
DTEND:20240619T013000Z
END:VEVENT
END:VCALENDAR
