BEGIN:VCALENDAR
VERSION:2.0
PRODID:SchoolNow
CALSCALE:GREGORIAN
BEGIN:VEVENT
UID:d655eb84-1d05-11ef-86a4-0affed4507d3
DTSTAMP:20240528T152037Z
SUMMARY:Executive Session - June 18\, 2024
LOCATION:Administration Center\, 41 Williams Street\, Hammond\, IN 46320
URL;VALUE=URI:https://www.hammond.k12.in.us/calendar/6040885/executive-sess
 ion-june-18-2024
DTSTART:20240618T223000Z
DTEND:20240618T233000Z
END:VEVENT
END:VCALENDAR
