BEGIN:VCALENDAR
VERSION:2.0
PRODID:SchoolNow
CALSCALE:GREGORIAN
BEGIN:VEVENT
UID:cb86ca7a-1d05-11ef-9a16-0a58a9feac02
DTSTAMP:20240528T152019Z
SUMMARY:Executive Session - June 11\, 2024
LOCATION:Administration Center\, 41 Williams Street\, Hammond\, IN 46320
URL;VALUE=URI:https://www.hammond.k12.in.us/calendar/6040884/executive-sess
 ion-june-11-2024
DTSTART:20240611T223000Z
DTEND:20240611T233000Z
END:VEVENT
END:VCALENDAR
