BEGIN:VCALENDAR
VERSION:2.0
PRODID:SchoolNow
CALSCALE:GREGORIAN
BEGIN:VEVENT
UID:46ab18a6-1d05-11ef-9c41-0a58a9feac02
DTSTAMP:20240528T151636Z
SUMMARY:Executive Session - June 4\, 2024
LOCATION:Administration Center\, 41 Williams Street\, Hammond\, IN 46320
URL;VALUE=URI:https://www.hammond.k12.in.us/calendar/6040881/executive-sess
 ion-june-4-2024
DTSTART:20240604T223000Z
DTEND:20240604T233000Z
END:VEVENT
END:VCALENDAR
