BEGIN:VCALENDAR
VERSION:2.0
PRODID:SchoolNow
CALSCALE:GREGORIAN
BEGIN:VEVENT
UID:65758bf2-07e5-11ef-97d9-02cee02ba9ff
DTSTAMP:20240501T180653Z
SUMMARY:TA Public Meeting - May 8\, 2024
LOCATION:Administration Center\, 41 Williams Street\, Hammond\, IN 46320
URL;VALUE=URI:https://www.hammond.k12.in.us/calendar/5895034/ta-public-meet
 ing-may-8-2024
DTSTART:20240508T230000Z
DTEND:20240509T000000Z
ATTACH;FILENAME=SCH_Public Meetings_May 2024.pdf;FMTTYPE=application/pdf:ht
 tps://campussuite-storage.s3.amazonaws.com/prod/1559033/fab8744a-ab41-11ea
 -9bfa-127f10bcdb1b/2779371/25ccf814-07e5-11ef-95ff-0222fcec6e8f/file/SCH_P
 ublic Meetings_May 2024.pdf
END:VEVENT
END:VCALENDAR
