BEGIN:VCALENDAR
VERSION:2.0
PRODID:SchoolNow
CALSCALE:GREGORIAN
BEGIN:VEVENT
UID:fc2f1774-033b-11ef-bc50-02c7b72f94af
DTSTAMP:20240429T134350Z
SUMMARY:School Board Meeting - May 21\, 2024
LOCATION:41 Williams Street\, Hammond\, IN. 46320
URL;VALUE=URI:https://www.hammond.k12.in.us/calendar/5856879/school-board-m
 eeting-may-21-2024
DTSTART:20240521T233000Z
DTEND:20240522T013000Z
END:VEVENT
END:VCALENDAR
