BEGIN:VCALENDAR
VERSION:2.0
PRODID:SchoolNow
CALSCALE:GREGORIAN
BEGIN:VEVENT
UID:9e02bd54-033b-11ef-bbfd-0ea272018877
DTSTAMP:20240524T144027Z
SUMMARY:Executive Session - May 28\, 2024
LOCATION:Administration Center\, 41 Williams Street\, Hammond\, IN 46320
URL;VALUE=URI:https://www.hammond.k12.in.us/calendar/5856878/executive-sess
 ion-may-28-2024
DTSTART:20240528T233000Z
DTEND:20240529T003000Z
ATTACH;FILENAME=SCH_Executive Sessions_Public Work Session_May 24_R24.pdf;F
 MTTYPE=application/pdf:https://campussuite-storage.s3.amazonaws.com/prod/1
 559033/fab8744a-ab41-11ea-9bfa-127f10bcdb1b/2794004/8908106e-19db-11ef-bf7
 5-0e5c39967703/file/SCH_Executive Sessions_Public Work Session_May 24_R24.
 pdf
END:VEVENT
END:VCALENDAR
