BEGIN:VCALENDAR
VERSION:2.0
PRODID:SchoolNow
CALSCALE:GREGORIAN
BEGIN:VEVENT
UID:c8dcde74-8e10-11ee-80db-0a1e1041cfd5
DTSTAMP:20231128T170843Z
SUMMARY:Bids for SCH 2024 Tax Anticipation Warrants
URL;VALUE=URI:https://www.hammond.k12.in.us/calendar/4972409/bids-for-sch-2
 024-tax-anticipation-warrants
DTSTART:20231212T170000Z
DTEND:20231212T180000Z
ATTACH;FILENAME=Hammond SC 2024 warrant sale notice 20231122 (1).pdf;FMTTYP
 E=application/pdf:https://campussuite-storage.s3.amazonaws.com/prod/155903
 3/fab8744a-ab41-11ea-9bfa-127f10bcdb1b/2705892/8800c1e0-8e10-11ee-8653-0a5
 8a9feac02/file/Hammond SC 2024 warrant sale notice 20231122 (1).pdf
END:VEVENT
END:VCALENDAR
