BEGIN:VCALENDAR
VERSION:2.0
PRODID:SchoolNow
CALSCALE:GREGORIAN
BEGIN:VEVENT
UID:97d0b34e-8c55-11ee-b69d-0a58a9feac02
DTSTAMP:20231218T174129Z
SUMMARY:Executive Session - Dec. 12\, 2023
LOCATION:Administration Center
URL;VALUE=URI:https://www.hammond.k12.in.us/calendar/4968923/executive-sess
 ion-dec-12-2023
DTSTART:20231212T233000Z
DTEND:20231213T010000Z
END:VEVENT
END:VCALENDAR
