BEGIN:VCALENDAR
VERSION:2.0
PRODID:SchoolNow
CALSCALE:GREGORIAN
BEGIN:VEVENT
UID:81e511a6-8c55-11ee-b157-0e71ad8af763
DTSTAMP:20231218T174236Z
SUMMARY:Executive Session - Dec. 5\, 2023
LOCATION:Administration Center
URL;VALUE=URI:https://www.hammond.k12.in.us/calendar/4968922/executive-sess
 ion-dec-5-2023
DTSTART:20231205T233000Z
DTEND:20231206T003000Z
END:VEVENT
END:VCALENDAR
