BEGIN:VCALENDAR
VERSION:2.0
PRODID:SchoolNow
CALSCALE:GREGORIAN
BEGIN:VEVENT
UID:59f69386-8c55-11ee-bc0e-0a58a9feac02
DTSTAMP:20231218T174253Z
SUMMARY:Executive Session - Nov. 28\, 2023
LOCATION:Administration Center
URL;VALUE=URI:https://www.hammond.k12.in.us/calendar/4968686/executive-sess
 ion-nov-28-2023
DTSTART:20231128T233000Z
DTEND:20231129T010000Z
ATTACH;FILENAME=SCH_Executive Session_Nov 28 2023.pdf;FMTTYPE=application/p
 df:https://campussuite-storage.s3.amazonaws.com/prod/1559033/fab8744a-ab41
 -11ea-9bfa-127f10bcdb1b/2704800/55908e46-8d31-11ee-8e26-0e35975cf25b/file/
 SCH_Executive Session_Nov 28 2023.pdf
END:VEVENT
END:VCALENDAR
