BEGIN:VCALENDAR
VERSION:2.0
PRODID:SchoolNow
CALSCALE:GREGORIAN
BEGIN:VEVENT
UID:a39115b2-7741-11ee-a9f9-0ae7837a849f
DTSTAMP:20231218T213736Z
SUMMARY:Public Meeting - Nov. 14\, 2023
LOCATION:Administration Center
URL;VALUE=URI:https://www.hammond.k12.in.us/calendar/4912137/public-meeting
 -nov-14-2023
DTSTART:20231115T000000Z
DTEND:20231115T013000Z
ATTACH;FILENAME=SCH_Public Meetings_Executive Session_Nov 2023_R.pdf;FMTTYP
 E=application/pdf:https://campussuite-storage.s3.amazonaws.com/prod/155903
 3/fab8744a-ab41-11ea-9bfa-127f10bcdb1b/2696561/d8caff66-7d8d-11ee-9548-0a5
 8a9feac02/file/SCH_Public Meetings_Executive Session_Nov 2023_R.pdf
END:VEVENT
END:VCALENDAR
