BEGIN:VCALENDAR
VERSION:2.0
PRODID:SchoolNow
CALSCALE:GREGORIAN
BEGIN:VEVENT
UID:7d6ff916-72aa-11ee-b9e3-0e5ede1202fd
DTSTAMP:20231218T214014Z
SUMMARY:Community Meeting - Oct. 26\, 2023
LOCATION:Morton High School\, 6915 Grand Avenue\, Hammond\, IN  46323
URL;VALUE=URI:https://www.hammond.k12.in.us/calendar/4896686/community-meet
 ing-oct-26-2023
DTSTART:20231026T230000Z
DTEND:20231027T010000Z
END:VEVENT
END:VCALENDAR
