BEGIN:VCALENDAR
VERSION:2.0
PRODID:SchoolNow
CALSCALE:GREGORIAN
BEGIN:VEVENT
UID:a4fc8274-5eff-11ee-bdef-0a58a9feac02
DTSTAMP:20231218T175339Z
SUMMARY:Executive Session - Oct. 3\, 2023
LOCATION:Administration Center
URL;VALUE=URI:https://www.hammond.k12.in.us/calendar/4811750/executive-sess
 ion-oct-3-2023
DTSTART:20231003T223000Z
DTEND:20231003T230000Z
ATTACH;FILENAME=SCH_Public Work Sessions Executive Session_Oct 2023_R.pdf;F
 MTTYPE=application/pdf:https://campussuite-storage.s3.amazonaws.com/prod/1
 559033/fab8744a-ab41-11ea-9bfa-127f10bcdb1b/2672434/847cb53c-5eff-11ee-a6d
 6-0a58a9feac02/file/SCH_Public Work Sessions Executive Session_Oct 2023_R.
 pdf
END:VEVENT
END:VCALENDAR
