BEGIN:VCALENDAR
VERSION:2.0
PRODID:SchoolNow
CALSCALE:GREGORIAN
BEGIN:VEVENT
UID:08b51994-03fb-11ee-a9a6-0a3acc2fdb79
DTSTAMP:20231218T174844Z
SUMMARY:Executive Session - June 7\, 2023 - Cancelled
LOCATION:Administration Center
URL;VALUE=URI:https://www.hammond.k12.in.us/calendar/4354928/executive-sess
 ion-june-7-2023-cancelled
DTSTART:20230607T223000Z
DTEND:20230607T230000Z
ATTACH;FILENAME=SCH_Executive Session_Jun 7 2023.pdf;FMTTYPE=application/pd
 f:https://campussuite-storage.s3.amazonaws.com/prod/1559033/fab8744a-ab41-
 11ea-9bfa-127f10bcdb1b/2608179/991aec84-03fb-11ee-bd42-0a3acc2fdb79/file/S
 CH_Executive Session_Jun 7 2023.pdf
END:VEVENT
END:VCALENDAR
