BEGIN:VCALENDAR
VERSION:2.0
PRODID:SchoolNow
CALSCALE:GREGORIAN
BEGIN:VEVENT
UID:8bb47cd6-fa46-11ed-895b-0248efafeef5
DTSTAMP:20230605T235132Z
SUMMARY:Scott MS 8th Grade Awards Celebration (8A Students)
LOCATION:Scott Middle School
URL;VALUE=URI:https://www.hammond.k12.in.us/calendar/4294519/scott-ms-8th-g
 rade-awards-celebration-8a-students
DTSTART:20230607T211500Z
DTEND:20230608T080000Z
END:VEVENT
END:VCALENDAR
