BEGIN:VCALENDAR
VERSION:2.0
PRODID:SchoolNow
CALSCALE:GREGORIAN
BEGIN:VEVENT
UID:523bff9c-fa46-11ed-85bc-0248efafeef5
DTSTAMP:20230524T152059Z
SUMMARY:Scott MS 8th Grade Awards Ceremony (8B Students)
LOCATION:Scott Middle School
URL;VALUE=URI:https://www.hammond.k12.in.us/calendar/4294518/scott-ms-8th-g
 rade-awards-ceremony-8b-students
DTSTART:20230607T144500Z
DTEND:20230607T154500Z
END:VEVENT
END:VCALENDAR
