BEGIN:VCALENDAR
VERSION:2.0
PRODID:SchoolNow
CALSCALE:GREGORIAN
BEGIN:VEVENT
UID:cbaa35ce-fa41-11ed-a6d5-0248efafeef5
DTSTAMP:20230524T144641Z
SUMMARY:Eggers 8th Grade Farewell Program
LOCATION:Hammond Central High School
URL;VALUE=URI:https://www.hammond.k12.in.us/calendar/4294516/eggers-8th-gra
 de-farewell-program
DTSTART:20230607T210000Z
DTEND:20230608T000000Z
END:VEVENT
END:VCALENDAR
