BEGIN:VCALENDAR
VERSION:2.0
PRODID:SchoolNow
CALSCALE:GREGORIAN
BEGIN:VEVENT
UID:fde21f7e-e516-11ed-8bc2-0ef0b3758ff5
DTSTAMP:20231218T213302Z
SUMMARY:School Board Meeting - May 5\, 2023
LOCATION:41 Williams Street\, Hammond\, IN. 46320
URL;VALUE=URI:https://www.hammond.k12.in.us/calendar/4138518/school-board-m
 eeting-may-5-2023
DTSTART:20230509T230000Z
DTEND:20230510T010000Z
ATTACH;FILENAME=School Board Meetings_May 2023.pdf;FMTTYPE=application/pdf:
 https://campussuite-storage.s3.amazonaws.com/prod/1559033/fab8744a-ab41-11
 ea-9bfa-127f10bcdb1b/2584747/f21049b4-e516-11ed-ad97-02ecb9295a2f/file/Sch
 ool Board Meetings_May 2023.pdf
END:VEVENT
END:VCALENDAR
