BEGIN:VCALENDAR
VERSION:2.0
PRODID:SchoolNow
CALSCALE:GREGORIAN
BEGIN:VEVENT
UID:e9412052-e515-11ed-ac83-0e53128257b9
DTSTAMP:20231218T215111Z
SUMMARY:Special Board Meeting - May 3\, 2023
LOCATION:Administration Center
URL;VALUE=URI:https://www.hammond.k12.in.us/calendar/4138517/special-board-
 meeting-may-3-2023
DTSTART:20230503T233000Z
DTEND:20230503T234500Z
ATTACH;FILENAME=SCH_Executive Session Special Meeting Public Work Session_M
 ay 2023.pdf;FMTTYPE=application/pdf:https://campussuite-storage.s3.amazona
 ws.com/prod/1559033/fab8744a-ab41-11ea-9bfa-127f10bcdb1b/2584735/8ca0530e-
 e515-11ed-bbb9-0aecd7a4d8c1/file/SCH_Executive Session Special Meeting Pub
 lic Work Session_May 2023.pdf
END:VEVENT
END:VCALENDAR
