BEGIN:VCALENDAR
VERSION:2.0
PRODID:SchoolNow
CALSCALE:GREGORIAN
BEGIN:VEVENT
UID:005f6f9a-e472-11ed-b377-02ecb9295a2f
DTSTAMP:20231218T174923Z
SUMMARY:Executive Session - May 3\, 2023
LOCATION:Administration Center
URL;VALUE=URI:https://www.hammond.k12.in.us/calendar/4132024/executive-sess
 ion-may-3-2023
DTSTART:20230503T223000Z
DTEND:20230503T233000Z
ATTACH;FILENAME=SCH_Executive Session Special Meeting Public Work Session_M
 ay 2023.pdf;FMTTYPE=application/pdf:https://campussuite-storage.s3.amazona
 ws.com/prod/1559033/fab8744a-ab41-11ea-9bfa-127f10bcdb1b/2584735/8ca0530e-
 e515-11ed-bbb9-0aecd7a4d8c1/file/SCH_Executive Session Special Meeting Pub
 lic Work Session_May 2023.pdf
END:VEVENT
END:VCALENDAR
