BEGIN:VCALENDAR
VERSION:2.0
PRODID:SchoolNow
CALSCALE:GREGORIAN
BEGIN:VEVENT
UID:2b46bbf6-ce4b-11ed-81e1-028d6d0343cd
DTSTAMP:20231218T175157Z
SUMMARY:Executive Session - April 1\, 2023
LOCATION:Administration Center
URL;VALUE=URI:https://www.hammond.k12.in.us/calendar/3944144/executive-sess
 ion-april-1-2023
DTSTART:20230401T160000Z
DTEND:20230401T180000Z
ATTACH;FILENAME=SCH_Public Work Sessions Executive Session_April 2023.pdf;F
 MTTYPE=application/pdf:https://campussuite-storage.s3.amazonaws.com/prod/1
 559033/fab8744a-ab41-11ea-9bfa-127f10bcdb1b/2574108/d33cd40e-ce4a-11ed-8c5
 8-028d6d0343cd/file/SCH_Public Work Sessions Executive Session_April 2023.
 pdf
END:VEVENT
END:VCALENDAR
