BEGIN:VCALENDAR
VERSION:2.0
PRODID:SchoolNow
CALSCALE:GREGORIAN
BEGIN:VEVENT
UID:6b3424fa-c73a-11ed-9392-0e161c70e1eb
DTSTAMP:20231218T175210Z
SUMMARY:Executive Session - May 28\, 2023
LOCATION:Administration Center
URL;VALUE=URI:https://www.hammond.k12.in.us/calendar/3897480/executive-sess
 ion-may-28-2023
DTSTART:20230328T223000Z
DTEND:20230329T003000Z
ATTACH;FILENAME=SCH_Executive Session_032823.pdf;FMTTYPE=application/pdf:ht
 tps://campussuite-storage.s3.amazonaws.com/prod/1559033/fab8744a-ab41-11ea
 -9bfa-127f10bcdb1b/2569639/806f7ef0-c73a-11ed-90c3-02c307dbb51d/file/SCH_E
 xecutive Session_032823.pdf
END:VEVENT
END:VCALENDAR
