BEGIN:VCALENDAR
VERSION:2.0
PRODID:SchoolNow
CALSCALE:GREGORIAN
BEGIN:VEVENT
UID:0dfd9a0c-b946-11ed-b206-0abccd45c0cb
DTSTAMP:20231218T214800Z
SUMMARY:Public Work Session - March 14\, 2023
LOCATION:Administration Center
URL;VALUE=URI:https://www.hammond.k12.in.us/calendar/3807389/public-work-se
 ssion-march-14-2023
DTSTART:20230314T230000Z
DTEND:20230315T003000Z
ATTACH;FILENAME=SCH_Public Work Sessions Executive Session_Mar 2023.pdf;FMT
 TYPE=application/pdf:https://campussuite-storage.s3.amazonaws.com/prod/155
 9033/fab8744a-ab41-11ea-9bfa-127f10bcdb1b/2559962/0996c172-bc3a-11ed-9a85-
 0a2373ca4b3f/file/SCH_Public Work Sessions Executive Session_Mar 2023.pdf
END:VEVENT
END:VCALENDAR
