BEGIN:VCALENDAR
VERSION:2.0
PRODID:SchoolNow
CALSCALE:GREGORIAN
BEGIN:VEVENT
UID:a4b5316c-a311-11ed-b2c5-0ec35bcadf73
DTSTAMP:20231218T213421Z
SUMMARY:School Board Meeting - Nov. 21\, 2023
LOCATION:41 Williams Street\, Hammond\, IN. 46320
URL;VALUE=URI:https://www.hammond.k12.in.us/calendar/3711105/school-board-m
 eeting-nov-21-2023
DTSTART:20231122T000000Z
DTEND:20231122T020000Z
END:VEVENT
END:VCALENDAR
