BEGIN:VCALENDAR
VERSION:2.0
PRODID:SchoolNow
CALSCALE:GREGORIAN
BEGIN:VEVENT
UID:9b6363b8-a311-11ed-89ad-0ec35bcadf73
DTSTAMP:20231218T213406Z
SUMMARY:School Board Meeting - Oct. 17\, 2023
LOCATION:41 Williams Street\, Hammond\, IN. 46320
URL;VALUE=URI:https://www.hammond.k12.in.us/calendar/3711104/school-board-m
 eeting-oct-17-2023
DTSTART:20231017T230000Z
DTEND:20231018T010000Z
END:VEVENT
END:VCALENDAR
