BEGIN:VCALENDAR
VERSION:2.0
PRODID:SchoolNow
CALSCALE:GREGORIAN
BEGIN:VEVENT
UID:96c0216e-a30e-11ed-b5d8-0aae059b864d
DTSTAMP:20231218T213219Z
SUMMARY:School Board Meeting - June 20\, 2023
LOCATION:41 Williams Street\, Hammond\, IN. 46320
URL;VALUE=URI:https://www.hammond.k12.in.us/calendar/3711096/school-board-m
 eeting-june-20-2023
DTSTART:20230620T230000Z
DTEND:20230621T010000Z
END:VEVENT
END:VCALENDAR
