BEGIN:VCALENDAR
VERSION:2.0
PRODID:SchoolNow
CALSCALE:GREGORIAN
BEGIN:VEVENT
UID:79042c7e-a30e-11ed-9cf9-0aae059b864d
DTSTAMP:20231218T213245Z
SUMMARY:School Board Meeting - April 18\, 2023
LOCATION:41 Williams Street\, Hammond\, IN. 46320
URL;VALUE=URI:https://www.hammond.k12.in.us/calendar/3711094/school-board-m
 eeting-april-18-2023
DTSTART:20230418T233000Z
DTEND:20230419T013000Z
ATTACH;FILENAME=School Board Meetings_Apr 23 R.pdf;FMTTYPE=application/pdf:
 https://campussuite-storage.s3.amazonaws.com/prod/1559033/fab8744a-ab41-11
 ea-9bfa-127f10bcdb1b/2576632/43b068e2-d3c1-11ed-883c-026ed5e29e41/file/Sch
 ool Board Meetings_Apr 23 R.pdf
END:VEVENT
END:VCALENDAR
