BEGIN:VCALENDAR
VERSION:2.0
PRODID:SchoolNow
CALSCALE:GREGORIAN
BEGIN:VEVENT
UID:702999ae-a30e-11ed-97cb-0aae059b864d
DTSTAMP:20231218T213208Z
SUMMARY:School Board Meeting - Mar. 21\, 2023
LOCATION:41 Williams Street\, Hammond\, IN. 46320
URL;VALUE=URI:https://www.hammond.k12.in.us/calendar/3711093/school-board-m
 eeting-mar-21-2023
DTSTART:20230321T230000Z
DTEND:20230322T010000Z
END:VEVENT
END:VCALENDAR
