BEGIN:VCALENDAR
VERSION:2.0
PRODID:SchoolNow
CALSCALE:GREGORIAN
BEGIN:VEVENT
UID:0ed1dd2e-a30e-11ed-94f4-0aae059b864d
DTSTAMP:20231218T215100Z
SUMMARY:Special Board Meeting - June 27\, 2023
LOCATION:Administration Center
URL;VALUE=URI:https://www.hammond.k12.in.us/calendar/3711086/special-board-
 meeting-june-27-2023
DTSTART:20230627T230000Z
DTEND:20230627T233000Z
ATTACH;FILENAME=SCH_Special Meeting_062723.pdf;FMTTYPE=application/pdf:http
 s://campussuite-storage.s3.amazonaws.com/prod/1559033/fab8744a-ab41-11ea-9
 bfa-127f10bcdb1b/2621170/5d5b33a2-1139-11ee-a43b-02aacb1b1b65/file/SCH_Spe
 cial Meeting_062723.pdf
END:VEVENT
END:VCALENDAR
