BEGIN:VCALENDAR
VERSION:2.0
PRODID:SchoolNow
CALSCALE:GREGORIAN
BEGIN:VEVENT
UID:fd91f300-a30d-11ed-a519-0aae059b864d
DTSTAMP:20231218T174945Z
SUMMARY:Executive Session - April 18\, 2023
LOCATION:Administration Center
URL;VALUE=URI:https://www.hammond.k12.in.us/calendar/3711084/executive-sess
 ion-april-18-2023
DTSTART:20230418T223000Z
DTEND:20230418T230000Z
ATTACH;FILENAME=SCH_Public Work Sessions Executive Session_Apr 23 R.pdf;FMT
 TYPE=application/pdf:https://campussuite-storage.s3.amazonaws.com/prod/155
 9033/fab8744a-ab41-11ea-9bfa-127f10bcdb1b/2576636/6e1894ec-d3c1-11ed-a4e1-
 026ed5e29e41/file/SCH_Public Work Sessions Executive Session_Apr 23 R.pdf
END:VEVENT
END:VCALENDAR
