BEGIN:VCALENDAR
VERSION:2.0
PRODID:SchoolNow
CALSCALE:GREGORIAN
BEGIN:VEVENT
UID:267cefb4-a30d-11ed-a604-0eba2c2a9003
DTSTAMP:20231218T211056Z
SUMMARY:School Board Meeting - Dec. 5\, 2023
LOCATION:Administration Center
URL;VALUE=URI:https://www.hammond.k12.in.us/calendar/3711080/school-board-m
 eeting-dec-5-2023
DTSTART:20231206T003000Z
DTEND:20231206T020000Z
END:VEVENT
END:VCALENDAR
