BEGIN:VCALENDAR
VERSION:2.0
PRODID:SchoolNow
CALSCALE:GREGORIAN
BEGIN:VEVENT
UID:03fd22d8-a30d-11ed-a5fd-0aae059b864d
DTSTAMP:20231218T214042Z
SUMMARY:Public Work Session - Oct. 3\, 2023
LOCATION:Administration Center
URL;VALUE=URI:https://www.hammond.k12.in.us/calendar/3711078/public-work-se
 ssion-oct-3-2023
DTSTART:20231003T230000Z
DTEND:20231004T003000Z
ATTACH;FILENAME=SCH_Public Work Sessions Executive Session_Oct 2023_R.pdf;F
 MTTYPE=application/pdf:https://campussuite-storage.s3.amazonaws.com/prod/1
 559033/fab8744a-ab41-11ea-9bfa-127f10bcdb1b/2672434/847cb53c-5eff-11ee-a6d
 6-0a58a9feac02/file/SCH_Public Work Sessions Executive Session_Oct 2023_R.
 pdf
END:VEVENT
END:VCALENDAR
